BEGIN:VCALENDAR
VERSION:2.0
PRODID:-//Tampereen Navigaatioseura - ECPv6.10.1.1//NONSGML v1.0//EN
CALSCALE:GREGORIAN
METHOD:PUBLISH
X-WR-CALNAME:Tampereen Navigaatioseura
X-ORIGINAL-URL:https://tans.fi
X-WR-CALDESC:Events for Tampereen Navigaatioseura
REFRESH-INTERVAL;VALUE=DURATION:PT1H
X-Robots-Tag:noindex
X-PUBLISHED-TTL:PT1H
BEGIN:VTIMEZONE
TZID:Europe/Helsinki
BEGIN:DAYLIGHT
TZOFFSETFROM:+0200
TZOFFSETTO:+0300
TZNAME:EEST
DTSTART:20210328T010000
END:DAYLIGHT
BEGIN:STANDARD
TZOFFSETFROM:+0300
TZOFFSETTO:+0200
TZNAME:EET
DTSTART:20211031T010000
END:STANDARD
END:VTIMEZONE
BEGIN:VEVENT
DTSTART;TZID=Europe/Helsinki:20211026T173000
DTEND;TZID=Europe/Helsinki:20211026T200000
DTSTAMP:20260423T011231
CREATED:20211016T135836Z
LAST-MODIFIED:20211016T135836Z
UID:10000149-1635269400-1635278400@tans.fi
SUMMARY:Kevään diplomien jako\, myös vanhat diplomit voi hakea
DESCRIPTION:Kevään diplomit jaetaan Pajasaaressa klo 17:30 alkaen. Kahvitarjoilu. Myös vanhojen kurssien diplomin voi hakea. Pahoittelemme jaon viivästymistä\, mutta syy on tietenkin koronarajoituksissa.
URL:https://tans.fi/tapahtuma/diplomien-jako-3/
CATEGORIES:Tapahtumat
END:VEVENT
BEGIN:VEVENT
DTSTART;TZID=Europe/Helsinki:20210917T000000
DTEND;TZID=Europe/Helsinki:20210917T000000
DTSTAMP:20260423T011231
CREATED:20210412T151342Z
LAST-MODIFIED:20210412T151342Z
UID:10000154-1631836800-1631836800@tans.fi
SUMMARY:Navigointikilpailut - siirretty vuodelle 2022
DESCRIPTION:
URL:https://tans.fi/tapahtuma/navigointikilpailut/
CATEGORIES:Kilpailut
END:VEVENT
BEGIN:VEVENT
DTSTART;TZID=Europe/Helsinki:20210915T170000
DTEND;TZID=Europe/Helsinki:20210915T190000
DTSTAMP:20260423T011231
CREATED:20210412T151154Z
LAST-MODIFIED:20210412T151154Z
UID:10000155-1631725200-1631732400@tans.fi
SUMMARY:Saaristokurssi alkaa
DESCRIPTION:
URL:https://tans.fi/tapahtuma/saaristokurssi-alkaa/
CATEGORIES:Laivurikurssit
END:VEVENT
BEGIN:VEVENT
DTSTART;TZID=Europe/Helsinki:20210913T173000
DTEND;TZID=Europe/Helsinki:20210913T193000
DTSTAMP:20260423T011231
CREATED:20210412T151057Z
LAST-MODIFIED:20210412T151057Z
UID:10000156-1631554200-1631561400@tans.fi
SUMMARY:Rannikkokurssi alkaa
DESCRIPTION:
URL:https://tans.fi/tapahtuma/rannikkokurssi-alkaa/
CATEGORIES:Laivurikurssit
END:VEVENT
END:VCALENDAR