BEGIN:VCALENDAR
VERSION:2.0
PRODID:-//Tampereen Navigaatioseura - ECPv6.10.1.1//NONSGML v1.0//EN
CALSCALE:GREGORIAN
METHOD:PUBLISH
X-WR-CALNAME:Tampereen Navigaatioseura
X-ORIGINAL-URL:https://tans.fi
X-WR-CALDESC:Events for Tampereen Navigaatioseura
REFRESH-INTERVAL;VALUE=DURATION:PT1H
X-Robots-Tag:noindex
X-PUBLISHED-TTL:PT1H
BEGIN:VTIMEZONE
TZID:Europe/Helsinki
BEGIN:DAYLIGHT
TZOFFSETFROM:+0200
TZOFFSETTO:+0300
TZNAME:EEST
DTSTART:20210328T010000
END:DAYLIGHT
BEGIN:STANDARD
TZOFFSETFROM:+0300
TZOFFSETTO:+0200
TZNAME:EET
DTSTART:20211031T010000
END:STANDARD
BEGIN:DAYLIGHT
TZOFFSETFROM:+0200
TZOFFSETTO:+0300
TZNAME:EEST
DTSTART:20220327T010000
END:DAYLIGHT
BEGIN:STANDARD
TZOFFSETFROM:+0300
TZOFFSETTO:+0200
TZNAME:EET
DTSTART:20221030T010000
END:STANDARD
END:VTIMEZONE
BEGIN:VEVENT
DTSTART;TZID=Europe/Helsinki:20220126T180000
DTEND;TZID=Europe/Helsinki:20220126T200000
DTSTAMP:20260421T230135
CREATED:20211223T132829Z
LAST-MODIFIED:20220307T195933Z
UID:10000182-1643220000-1643227200@tans.fi
SUMMARY:Saaristolaivurikurssin aloitus\, lähikurssi
DESCRIPTION:Kurssimateriaalin jako Pajasaaressa klo 18-20 \nLisätietoa kurssista: https://www.tans.fi/koulutus/laivuri/saaristolaivuri/
URL:https://tans.fi/tapahtuma/saaristolaivurikurssin-aloitus-lahikurssi/
CATEGORIES:Koulutus,Laivurikurssit
END:VEVENT
BEGIN:VEVENT
DTSTART;TZID=Europe/Helsinki:20220120T193000
DTEND;TZID=Europe/Helsinki:20220120T210000
DTSTAMP:20260421T230135
CREATED:20211026T150512Z
LAST-MODIFIED:20211026T150512Z
UID:10000165-1642707000-1642712400@tans.fi
SUMMARY:Lentopalloa - PERUTTU
DESCRIPTION:Lentopalloa Lielahden koululla: pienisali
URL:https://tans.fi/tapahtuma/lentopalloa-37-2022-01-20/
LOCATION:Lielahden Koulu\, Teivaalantie 2\, Tampere\, Suomi
CATEGORIES:Liikunta
END:VEVENT
BEGIN:VEVENT
DTSTART;TZID=Europe/Helsinki:20220113T193000
DTEND;TZID=Europe/Helsinki:20220113T210000
DTSTAMP:20260421T230135
CREATED:20211026T150512Z
LAST-MODIFIED:20211026T150512Z
UID:10000164-1642102200-1642107600@tans.fi
SUMMARY:Lentopalloa - PERUTTU
DESCRIPTION:Lentopalloa Lielahden koululla: pienisali \nPeruttu koronan takia
URL:https://tans.fi/tapahtuma/lentopalloa-37/
LOCATION:Lielahden Koulu\, Teivaalantie 2\, Tampere\, Suomi
CATEGORIES:Liikunta
END:VEVENT
BEGIN:VEVENT
DTSTART;TZID=Europe/Helsinki:20211217T180000
DTEND;TZID=Europe/Helsinki:20211217T200000
DTSTAMP:20260421T230135
CREATED:20210412T151909Z
LAST-MODIFIED:20210412T151909Z
UID:10000150-1639764000-1639771200@tans.fi
SUMMARY:Tutkintotulosten julkaiseminen
DESCRIPTION:
URL:https://tans.fi/tapahtuma/tutkintotulosten-julkaiseminen/
END:VEVENT
BEGIN:VEVENT
DTSTART;TZID=Europe/Helsinki:20211210T180000
DTEND;TZID=Europe/Helsinki:20211210T220000
DTSTAMP:20260421T230135
CREATED:20211121T105031Z
LAST-MODIFIED:20211121T105031Z
UID:10000181-1639159200-1639173600@tans.fi
SUMMARY:Rannikkolaivuritentti - Pajasaari
DESCRIPTION:Rannikkolaivuritentti Pajasaaressa: Näsikallionrinne 6\, 33210 Tampere \nTentti alkaa klo 18:00 \nIlmoittautumislinkki alla: \nTampereen Navigaatioseuran lähikurssilla opiskelleille \nMuilla kursseilla tai itseopiskelleille \nTäytettyäsi linkistä avautuvan ilmoittautumislomakkeen\, sinulle lähetetään maksutiedot antamaasi sähköpostiin. Muista käyttää viitenumeroa maksaessasi\, jotta maksu kohdistuu oikein ja tenttitilaisuuden aloittaminen on sujuvaa. \nTervetuloa!
URL:https://tans.fi/tapahtuma/rannikkolaivuritentti-pajasaari/
CATEGORIES:Koulutus,Laivurikurssit
END:VEVENT
BEGIN:VEVENT
DTSTART;TZID=Europe/Helsinki:20211210T180000
DTEND;TZID=Europe/Helsinki:20211210T220000
DTSTAMP:20260421T230135
CREATED:20210412T151803Z
LAST-MODIFIED:20210412T151803Z
UID:10000151-1639159200-1639173600@tans.fi
SUMMARY:Saaristolaivuritentti - TAKK
DESCRIPTION:Saaristolaivurikurssin tenttitilaisuus\, TAKK:n tiloissa\, Kurssikeskuksenkatu 11\, 33820 Tampere \nTentti alkaa klo 18:00 \nIlmoittautumislinkit alla: \nTampereen Navigaatioseuran lähi- ja etäkurssilla opiskelleille \nSampolassa- ja itseopiskelleille \nTäytettyäsi linkistä avautuvan ilmoittautumislomakkeen\, sinulle lähetetään maksutiedot antamaasi sähköpostiin. Muista käyttää viitenumeroa maksaessasi\, jotta maksu kohdistuu oikein ja tenttitilaisuuden aloittaminen on sujuvaa. \nTervetuloa! \n 
URL:https://tans.fi/tapahtuma/tutkintotilaisuus/
LOCATION:TAKK\, Kurssikeskuksenkatu 11\, Tampere\, Suomi
CATEGORIES:Laivurikurssit
END:VEVENT
BEGIN:VEVENT
DTSTART;TZID=Europe/Helsinki:20211209T193000
DTEND;TZID=Europe/Helsinki:20211209T210000
DTSTAMP:20260421T230135
CREATED:20211026T150003Z
LAST-MODIFIED:20211026T150003Z
UID:10000163-1639078200-1639083600@tans.fi
SUMMARY:Lentopalloa
DESCRIPTION:Lentopalloa Lielahden koulu: pienisali \n 
URL:https://tans.fi/tapahtuma/lentopalloa-36/2021-12-09/
LOCATION:Lielahden Koulu\, Teivaalantie 2\, Tampere\, Suomi
CATEGORIES:Liikunta
END:VEVENT
BEGIN:VEVENT
DTSTART;TZID=Europe/Helsinki:20211202T193000
DTEND;TZID=Europe/Helsinki:20211202T210000
DTSTAMP:20260421T230135
CREATED:20211026T150003Z
LAST-MODIFIED:20211026T150003Z
UID:10000162-1638473400-1638478800@tans.fi
SUMMARY:Lentopalloa
DESCRIPTION:Lentopalloa Lielahden koulu: pienisali \n 
URL:https://tans.fi/tapahtuma/lentopalloa-36/2021-12-02/
LOCATION:Lielahden Koulu\, Teivaalantie 2\, Tampere\, Suomi
CATEGORIES:Liikunta
END:VEVENT
BEGIN:VEVENT
DTSTART;TZID=Europe/Helsinki:20211201T000000
DTEND;TZID=Europe/Helsinki:20211201T000000
DTSTAMP:20260421T230135
CREATED:20210412T151657Z
LAST-MODIFIED:20210412T151657Z
UID:10000152-1638316800-1638316800@tans.fi
SUMMARY:Merikarttanavigoinnin SM-karsinnan tehtävät jakoon
DESCRIPTION:
URL:https://tans.fi/tapahtuma/merikarttanavigoinnin-sm-karsinnan-tehtavat-jakoon/
CATEGORIES:Kilpailut
END:VEVENT
BEGIN:VEVENT
DTSTART;TZID=Europe/Helsinki:20211125T193000
DTEND;TZID=Europe/Helsinki:20211125T210000
DTSTAMP:20260421T230135
CREATED:20211026T150003Z
LAST-MODIFIED:20211026T150003Z
UID:10000161-1637868600-1637874000@tans.fi
SUMMARY:Lentopalloa
DESCRIPTION:Lentopalloa Lielahden koulu: pienisali \n 
URL:https://tans.fi/tapahtuma/lentopalloa-36/2021-11-25/
LOCATION:Lielahden Koulu\, Teivaalantie 2\, Tampere\, Suomi
CATEGORIES:Liikunta
END:VEVENT
BEGIN:VEVENT
DTSTART;TZID=Europe/Helsinki:20211120T180000
DTEND;TZID=Europe/Helsinki:20211120T233000
DTSTAMP:20260421T230135
CREATED:20210412T151557Z
LAST-MODIFIED:20210412T151557Z
UID:10000153-1637431200-1637451000@tans.fi
SUMMARY:Pikkujoulut
DESCRIPTION:Pikkujoulujuhlat perinteiseen tapaan Pajasaaressa lauantaina 20.11. klo 18.00 alkaen. \nJouluinen noutopöytä\, tanssia ja elävää musiikkia. Omat pöytäjuomat mukaan. \nMuista joulupukin avuksi pieni paketti (n. 5 €). \nIllalliskortti 30€ ovelta. \nIlmoittautuminen allaolevan linkin kautta 14.11.2021 mennessä: \nIlmoittautuminen – Pikkujoulut \n  \nTervetuloa!
URL:https://tans.fi/tapahtuma/pikkujoulut/
END:VEVENT
BEGIN:VEVENT
DTSTART;TZID=Europe/Helsinki:20211118T193000
DTEND;TZID=Europe/Helsinki:20211118T210000
DTSTAMP:20260421T230135
CREATED:20211026T150003Z
LAST-MODIFIED:20211026T150003Z
UID:10000160-1637263800-1637269200@tans.fi
SUMMARY:Lentopalloa
DESCRIPTION:Lentopalloa Lielahden koulu: pienisali \n 
URL:https://tans.fi/tapahtuma/lentopalloa-36/2021-11-18/
LOCATION:Lielahden Koulu\, Teivaalantie 2\, Tampere\, Suomi
CATEGORIES:Liikunta
END:VEVENT
BEGIN:VEVENT
DTSTART;TZID=Europe/Helsinki:20211111T193000
DTEND;TZID=Europe/Helsinki:20211111T210000
DTSTAMP:20260421T230135
CREATED:20211026T150003Z
LAST-MODIFIED:20211026T150003Z
UID:10000159-1636659000-1636664400@tans.fi
SUMMARY:Lentopalloa
DESCRIPTION:Lentopalloa Lielahden koulu: pienisali \n 
URL:https://tans.fi/tapahtuma/lentopalloa-36/2021-11-11/
LOCATION:Lielahden Koulu\, Teivaalantie 2\, Tampere\, Suomi
CATEGORIES:Liikunta
END:VEVENT
BEGIN:VEVENT
DTSTART;TZID=Europe/Helsinki:20211111T180000
DTEND;TZID=Europe/Helsinki:20211111T200000
DTSTAMP:20260421T230135
CREATED:20211026T175536Z
LAST-MODIFIED:20220307T195933Z
UID:10000179-1636653600-1636660800@tans.fi
SUMMARY:Cevni-kurssi syksy 2021
DESCRIPTION:Syksyn 2021 Cevni-kurssi (Euroopan sisävesisäännöstö) järjestetään Teams-etäopetuksena ja tentti Pajasaaressa.\nKurssin suorittanut voi hakea I-merkintää kansainväliseen huviveneenkuljettajankirjaan. \nKurssin hintaan sisältyy kirja\, joka saa olla mukana tentissä.\nNouda kirja Pajasaaresta etukäteen. \nSaat linkin Teams-kokoukseen ilmoittautumisen jälkeen. \n1. ilta to 11.11. klo 18.00-20.00 Teamsissa.\n2. ilta ti 16.11. klo 18.00-20.00 Teamsissa.\nTentti 18.11. klo 18 Pajasaaressa. Tenttiaika on 45 min. \nKurssin hinta 80 €. \nLisätietoja kurssista »  \nIlmoittautuminen\n[av_button label=’Ilmoittaudu Cevni-kurssille’ link=’manually\,https://www.ilmarix.fi/tietoverkko/isoilmari4.nsf/ilmoall?openform&s=n&id=BCCA941CDB3B6EB7C225877A005E615B’ link_target=’_blank’ size=’large’ position=’left’ label_display=” icon_select=’yes’ icon=’ue812′ font=’entypo-fontello’ color=’theme-color’ custom_bg=’#444444′ custom_font=’#ffffff’ av_uid=” admin_preview_bg=”] \n  \n 
URL:https://tans.fi/tapahtuma/cevni-kurssi-syksy-2021/
CATEGORIES:Erikoiskurssit,Koulutus
ATTACH;FMTTYPE=:
END:VEVENT
BEGIN:VEVENT
DTSTART;VALUE=DATE:20211111
DTEND;VALUE=DATE:20211112
DTSTAMP:20260421T230135
CREATED:20211029T042123Z
LAST-MODIFIED:20211029T042123Z
UID:10000180-1636588800-1636675199@tans.fi
SUMMARY:CEVNI-KURSSI SYKSY 2021
DESCRIPTION:Syksyn 2021 Cevni-kurssi (Euroopan sisävesisäännöstö) järjestetään Teams-etäopetuksena 11.11. ja 16.11. sekä tentti 18.11. Pajasaaressa. Kurssin suorittanut voi hakea I-merkintää kansainväliseen huviveneenkuljettajakirjaan. Lisätiedot ja ilmoittautuminen: \nCevni-kurssi syksy 2021 – Tampereen Navigaatioseura (tans.fi)
URL:https://tans.fi/tapahtuma/cevni-kurssi-syksy-2021-2/
END:VEVENT
BEGIN:VEVENT
DTSTART;TZID=Europe/Helsinki:20211104T193000
DTEND;TZID=Europe/Helsinki:20211104T210000
DTSTAMP:20260421T230135
CREATED:20211026T150003Z
LAST-MODIFIED:20211026T150003Z
UID:10000158-1636054200-1636059600@tans.fi
SUMMARY:Lentopalloa
DESCRIPTION:Lentopalloa Lielahden koulu: pienisali \n 
URL:https://tans.fi/tapahtuma/lentopalloa-36/2021-11-04/
LOCATION:Lielahden Koulu\, Teivaalantie 2\, Tampere\, Suomi
CATEGORIES:Liikunta
END:VEVENT
BEGIN:VEVENT
DTSTART;TZID=Europe/Helsinki:20211028T193000
DTEND;TZID=Europe/Helsinki:20211028T210000
DTSTAMP:20260421T230135
CREATED:20211026T150003Z
LAST-MODIFIED:20211026T150003Z
UID:10000157-1635449400-1635454800@tans.fi
SUMMARY:Lentopalloa
DESCRIPTION:Lentopalloa Lielahden koulu: pienisali \n 
URL:https://tans.fi/tapahtuma/lentopalloa-36/2021-10-28/
LOCATION:Lielahden Koulu\, Teivaalantie 2\, Tampere\, Suomi
CATEGORIES:Liikunta
END:VEVENT
BEGIN:VEVENT
DTSTART;TZID=Europe/Helsinki:20211026T173000
DTEND;TZID=Europe/Helsinki:20211026T200000
DTSTAMP:20260421T230135
CREATED:20211016T135836Z
LAST-MODIFIED:20211016T135836Z
UID:10000149-1635269400-1635278400@tans.fi
SUMMARY:Kevään diplomien jako\, myös vanhat diplomit voi hakea
DESCRIPTION:Kevään diplomit jaetaan Pajasaaressa klo 17:30 alkaen. Kahvitarjoilu. Myös vanhojen kurssien diplomin voi hakea. Pahoittelemme jaon viivästymistä\, mutta syy on tietenkin koronarajoituksissa.
URL:https://tans.fi/tapahtuma/diplomien-jako-3/
CATEGORIES:Tapahtumat
END:VEVENT
BEGIN:VEVENT
DTSTART;TZID=Europe/Helsinki:20210917T000000
DTEND;TZID=Europe/Helsinki:20210917T000000
DTSTAMP:20260421T230135
CREATED:20210412T151342Z
LAST-MODIFIED:20210412T151342Z
UID:10000154-1631836800-1631836800@tans.fi
SUMMARY:Navigointikilpailut - siirretty vuodelle 2022
DESCRIPTION:
URL:https://tans.fi/tapahtuma/navigointikilpailut/
CATEGORIES:Kilpailut
END:VEVENT
BEGIN:VEVENT
DTSTART;TZID=Europe/Helsinki:20210915T170000
DTEND;TZID=Europe/Helsinki:20210915T190000
DTSTAMP:20260421T230135
CREATED:20210412T151154Z
LAST-MODIFIED:20210412T151154Z
UID:10000155-1631725200-1631732400@tans.fi
SUMMARY:Saaristokurssi alkaa
DESCRIPTION:
URL:https://tans.fi/tapahtuma/saaristokurssi-alkaa/
CATEGORIES:Laivurikurssit
END:VEVENT
BEGIN:VEVENT
DTSTART;TZID=Europe/Helsinki:20210913T173000
DTEND;TZID=Europe/Helsinki:20210913T193000
DTSTAMP:20260421T230135
CREATED:20210412T151057Z
LAST-MODIFIED:20210412T151057Z
UID:10000156-1631554200-1631561400@tans.fi
SUMMARY:Rannikkokurssi alkaa
DESCRIPTION:
URL:https://tans.fi/tapahtuma/rannikkokurssi-alkaa/
CATEGORIES:Laivurikurssit
END:VEVENT
END:VCALENDAR