BEGIN:VCALENDAR
VERSION:2.0
PRODID:-//Tampereen Navigaatioseura - ECPv6.10.1.1//NONSGML v1.0//EN
CALSCALE:GREGORIAN
METHOD:PUBLISH
X-WR-CALNAME:Tampereen Navigaatioseura
X-ORIGINAL-URL:https://tans.fi
X-WR-CALDESC:Events for Tampereen Navigaatioseura
REFRESH-INTERVAL;VALUE=DURATION:PT1H
X-Robots-Tag:noindex
X-PUBLISHED-TTL:PT1H
BEGIN:VTIMEZONE
TZID:Europe/Helsinki
BEGIN:DAYLIGHT
TZOFFSETFROM:+0200
TZOFFSETTO:+0300
TZNAME:EEST
DTSTART:20250330T010000
END:DAYLIGHT
BEGIN:STANDARD
TZOFFSETFROM:+0300
TZOFFSETTO:+0200
TZNAME:EET
DTSTART:20251026T010000
END:STANDARD
END:VTIMEZONE
BEGIN:VEVENT
DTSTART;TZID=Europe/Helsinki:20250910T191500
DTEND;TZID=Europe/Helsinki:20250910T204500
DTSTAMP:20260423T083130
CREATED:20250901T042337Z
LAST-MODIFIED:20250901T042337Z
UID:10000334-1757531700-1757537100@tans.fi
SUMMARY:Rannikkoveneilijä\, syksy 2025
DESCRIPTION:Navigointitaitoja vuorovesialueille \nTampereen Navigaatioseuran Rannikkokurssi on uudistunut ja kulkee nyt nimellä Rannikkoveneilijän kurssi. Uusi kurssi tarjoaa aiempaa laajemman ja käytännönläheisemmän sisällön\, joka valmistaa sinut turvalliseen navigointiin vuorovesialueilla. Oppimateriaalina käytetään oikeita Englannin kanaalin merikarttoja ja vuorovesitaulukoita\, ja kurssikirjan kuvitus on tekijöiden itsensä valokuvaamaa. Tällä kurssilla opit ne tärkeät taidot ja tiedot\, joita tarvitset navigointiin rannikon olosuhteissa. \nNavigointi 2 -tutkinto käy todistuksena teoreettisesta navigoinnin osaaamisesta Traficomille haettaessa esim. Kansainvälistä huviveneenkuljettajakirjaa. \nEsitietoina suositellaan saaristoveneilijä- tai saaristolaivurikurssin suorittamista hyväksytysti. \nLisätietoja kurssiaikataulusta\, sisällöstä ja ilmoittautumislinkin löydät täältä
URL:https://tans.fi/tapahtuma/rannikkoveneilija-syksy-2025/
LOCATION:Pajasaari\, Näsikallionrinne 6\, Tampere\, 33210
CATEGORIES:Alkavat kurssit,Koulutus
ATTACH;FMTTYPE=image/jpeg:https://tans.fi/wp-content/uploads/2024/10/Relex-syyspurjehdus-009.jpg
ORGANIZER;CN="Niko Mahlam%C3%A4ki":MAILTO:niko.mahlamaki@tans.fi
END:VEVENT
END:VCALENDAR