BEGIN:VCALENDAR
VERSION:2.0
PRODID:-//Tampereen Navigaatioseura - ECPv6.10.1.1//NONSGML v1.0//EN
CALSCALE:GREGORIAN
METHOD:PUBLISH
X-ORIGINAL-URL:https://tans.fi
X-WR-CALDESC:Events for Tampereen Navigaatioseura
REFRESH-INTERVAL;VALUE=DURATION:PT1H
X-Robots-Tag:noindex
X-PUBLISHED-TTL:PT1H
BEGIN:VTIMEZONE
TZID:Europe/Helsinki
BEGIN:DAYLIGHT
TZOFFSETFROM:+0200
TZOFFSETTO:+0300
TZNAME:EEST
DTSTART:20240331T010000
END:DAYLIGHT
BEGIN:STANDARD
TZOFFSETFROM:+0300
TZOFFSETTO:+0200
TZNAME:EET
DTSTART:20241027T010000
END:STANDARD
END:VTIMEZONE
BEGIN:VEVENT
DTSTART;TZID=Europe/Helsinki:20240115T171500
DTEND;TZID=Europe/Helsinki:20240115T191500
DTSTAMP:20260422T174017
CREATED:20231209T163920Z
LAST-MODIFIED:20231209T165040Z
UID:10000145-1705338900-1705346100@tans.fi
SUMMARY:Rannikkolaivurikurssi kevät 2024
DESCRIPTION:Kevään Rannikkolaivurikurssi alkaa maanantaina 15.1.2024 klo 17.15. \nLisätiedot kurssista ja ilmoittautuminen: Rannikkolaivurikurssi – Tampereen Navigaatioseura (tans.fi) \nKurssi kestää kevätlukukauden. Tentti Tampereella perjantaina 19.4.2024 klo 18-22. \n 
URL:https://tans.fi/tapahtuma/rannikkolaivurikurssi-kevat-2024/
LOCATION:Pajasaari\, Näsikallionrinne 6\, Tampere\, 33210
CATEGORIES:Alkavat kurssit,Koulutus
END:VEVENT
END:VCALENDAR