BEGIN:VCALENDAR
VERSION:2.0
PRODID:-//Tampereen Navigaatioseura - ECPv6.10.1.1//NONSGML v1.0//EN
CALSCALE:GREGORIAN
METHOD:PUBLISH
X-WR-CALNAME:Tampereen Navigaatioseura
X-ORIGINAL-URL:https://tans.fi
X-WR-CALDESC:Events for Tampereen Navigaatioseura
REFRESH-INTERVAL;VALUE=DURATION:PT1H
X-Robots-Tag:noindex
X-PUBLISHED-TTL:PT1H
BEGIN:VTIMEZONE
TZID:Europe/Helsinki
BEGIN:DAYLIGHT
TZOFFSETFROM:+0200
TZOFFSETTO:+0300
TZNAME:EEST
DTSTART:20240331T010000
END:DAYLIGHT
BEGIN:STANDARD
TZOFFSETFROM:+0300
TZOFFSETTO:+0200
TZNAME:EET
DTSTART:20241027T010000
END:STANDARD
END:VTIMEZONE
BEGIN:VEVENT
DTSTART;TZID=Europe/Helsinki:20240110T173000
DTEND;TZID=Europe/Helsinki:20240110T191500
DTSTAMP:20260418T194721
CREATED:20231209T163626Z
LAST-MODIFIED:20231209T164733Z
UID:10000144-1704907800-1704914100@tans.fi
SUMMARY:Saaristolaivurikurssi kevät 2024
DESCRIPTION:Kevään Saaristolaivurikurssi alkaa keskiviikkona 10.1.2024 klo 17.30. \nLisätiedot kurssista ja ilmoittautuminen: Saaristolaivurikurssi – Tampereen Navigaatioseura (tans.fi) \nKurssi kestää kevätlukukauden. Tentti Tampereella perjantaina 19.4.2024 klo 18-22.
URL:https://tans.fi/tapahtuma/saaristolaivurikurssi-kevat-2024/
LOCATION:Pajasaari\, Näsikallionrinne 6\, Tampere\, 33210
CATEGORIES:Alkavat kurssit,Koulutus
END:VEVENT
END:VCALENDAR