BEGIN:VCALENDAR
VERSION:2.0
PRODID:-//Tampereen Navigaatioseura - ECPv6.10.1.1//NONSGML v1.0//EN
CALSCALE:GREGORIAN
METHOD:PUBLISH
X-WR-CALNAME:Tampereen Navigaatioseura
X-ORIGINAL-URL:https://tans.fi
X-WR-CALDESC:Events for Tampereen Navigaatioseura
REFRESH-INTERVAL;VALUE=DURATION:PT1H
X-Robots-Tag:noindex
X-PUBLISHED-TTL:PT1H
BEGIN:VTIMEZONE
TZID:Europe/Helsinki
BEGIN:DAYLIGHT
TZOFFSETFROM:+0200
TZOFFSETTO:+0300
TZNAME:EEST
DTSTART:20230326T010000
END:DAYLIGHT
BEGIN:STANDARD
TZOFFSETFROM:+0300
TZOFFSETTO:+0200
TZNAME:EET
DTSTART:20231029T010000
END:STANDARD
END:VTIMEZONE
BEGIN:VEVENT
DTSTART;TZID=Europe/Helsinki:20231024T180000
DTEND;TZID=Europe/Helsinki:20231024T200000
DTSTAMP:20260422T225043
CREATED:20231011T080355Z
LAST-MODIFIED:20231011T080355Z
UID:10000239-1698170400-1698177600@tans.fi
SUMMARY:Laivuridiplomien jako
DESCRIPTION:Kevään tenttien diplomit jaetaan Pajasaaressa tiitsaina 24.10 klo 18:00. \nKahvia tarjolla.
URL:https://tans.fi/tapahtuma/laivuridiplomien-jako/
LOCATION:Pajasaari\, Näsikallionrinne 6\, Tampere\, 33210
CATEGORIES:Laivurikurssit,Tapahtumat
ATTACH;FMTTYPE=image/jpeg:https://tans.fi/wp-content/uploads/2023/10/Diplomi.jpg
END:VEVENT
END:VCALENDAR