BEGIN:VCALENDAR
VERSION:2.0
PRODID:-//Tampereen Navigaatioseura - ECPv6.10.1.1//NONSGML v1.0//EN
CALSCALE:GREGORIAN
METHOD:PUBLISH
X-WR-CALNAME:Tampereen Navigaatioseura
X-ORIGINAL-URL:https://tans.fi
X-WR-CALDESC:Events for Tampereen Navigaatioseura
REFRESH-INTERVAL;VALUE=DURATION:PT1H
X-Robots-Tag:noindex
X-PUBLISHED-TTL:PT1H
BEGIN:VTIMEZONE
TZID:Europe/Helsinki
BEGIN:DAYLIGHT
TZOFFSETFROM:+0200
TZOFFSETTO:+0300
TZNAME:EEST
DTSTART:20230326T010000
END:DAYLIGHT
BEGIN:STANDARD
TZOFFSETFROM:+0300
TZOFFSETTO:+0200
TZNAME:EET
DTSTART:20231029T010000
END:STANDARD
END:VTIMEZONE
BEGIN:VEVENT
DTSTART;TZID=Europe/Helsinki:20230425T180000
DTEND;TZID=Europe/Helsinki:20230425T210000
DTSTAMP:20260423T100108
CREATED:20230203T124156Z
LAST-MODIFIED:20230203T134524Z
UID:10000225-1682445600-1682456400@tans.fi
SUMMARY:VHF-kurssi huhtikuussa 25.-26.4. Tentti lauantaina 29.4.
DESCRIPTION:Edellinen VHF-kurssi täyttyi hetkessä. Nyt on tilaisuus ilmoittautua huhtikuun kurssille. \nTietoa kurssista on täällä \nKurssi pidetään Pajasaaressa tiistaina ja keskiviikkona 25.4 ja 26.4. klo 18-21. Tentti lauantaina 29.4. klo 10-13. \nPaikkoja on edelleen arjoitetusti\, joten kiirehdi varmistaaksesi paikkasi. \nIlmoittautua voi tämän linkin kautta. 
URL:https://tans.fi/tapahtuma/vhf-kurssi-huhtikuussa-25-26-4-tentti-lauantaina-29-4/
CATEGORIES:Erikoiskurssit,Koulutus
ATTACH;FMTTYPE=image/jpeg:https://tans.fi/wp-content/uploads/2023/02/VHF_Commandmic.jpg
END:VEVENT
END:VCALENDAR