BEGIN:VCALENDAR
VERSION:2.0
PRODID:-//Tampereen Navigaatioseura - ECPv6.10.1.1//NONSGML v1.0//EN
CALSCALE:GREGORIAN
METHOD:PUBLISH
X-WR-CALNAME:Tampereen Navigaatioseura
X-ORIGINAL-URL:https://tans.fi
X-WR-CALDESC:Events for Tampereen Navigaatioseura
REFRESH-INTERVAL;VALUE=DURATION:PT1H
X-Robots-Tag:noindex
X-PUBLISHED-TTL:PT1H
BEGIN:VTIMEZONE
TZID:Europe/Helsinki
BEGIN:DAYLIGHT
TZOFFSETFROM:+0200
TZOFFSETTO:+0300
TZNAME:EEST
DTSTART:20230326T010000
END:DAYLIGHT
BEGIN:STANDARD
TZOFFSETFROM:+0300
TZOFFSETTO:+0200
TZNAME:EET
DTSTART:20231029T010000
END:STANDARD
END:VTIMEZONE
BEGIN:VEVENT
DTSTART;TZID=Europe/Helsinki:20230118T173000
DTEND;TZID=Europe/Helsinki:20230118T191500
DTSTAMP:20260423T144937
CREATED:20221205T134907Z
LAST-MODIFIED:20221205T135159Z
UID:10000128-1674063000-1674069300@tans.fi
SUMMARY:Kevään Saaristolaivurikurssi alkaa 18.1.2023
DESCRIPTION:Kevään Saaristolaivurikurssi alkaa keskiviikkona 18.1.2023. \nLisätiedot kurssista ja ilmoittautuminen: Saaristolaivurikurssi – Tampereen Navigaatioseura (tans.fi) \n 
URL:https://tans.fi/tapahtuma/kevaan-saaristolaivurikurssi-alkaa-18-1-2023/
LOCATION:Pajasaari\, Näsikallionrinne 6\, Tampere\, 33210
CATEGORIES:Alkavat kurssit,Koulutus
END:VEVENT
END:VCALENDAR