BEGIN:VCALENDAR
VERSION:2.0
PRODID:-//Tampereen Navigaatioseura - ECPv6.10.1.1//NONSGML v1.0//EN
CALSCALE:GREGORIAN
METHOD:PUBLISH
X-WR-CALNAME:Tampereen Navigaatioseura
X-ORIGINAL-URL:https://tans.fi
X-WR-CALDESC:Events for Tampereen Navigaatioseura
REFRESH-INTERVAL;VALUE=DURATION:PT1H
X-Robots-Tag:noindex
X-PUBLISHED-TTL:PT1H
BEGIN:VTIMEZONE
TZID:Europe/Helsinki
BEGIN:DAYLIGHT
TZOFFSETFROM:+0200
TZOFFSETTO:+0300
TZNAME:EEST
DTSTART:20230326T010000
END:DAYLIGHT
BEGIN:STANDARD
TZOFFSETFROM:+0300
TZOFFSETTO:+0200
TZNAME:EET
DTSTART:20231029T010000
END:STANDARD
END:VTIMEZONE
BEGIN:VEVENT
DTSTART;TZID=Europe/Helsinki:20231116T180000
DTEND;TZID=Europe/Helsinki:20231116T220000
DTSTAMP:20260418T184800
CREATED:20231119T172314Z
LAST-MODIFIED:20231120T072847Z
UID:10000242-1700157600-1700172000@tans.fi
SUMMARY:Uusien venepäälliköiden kurssijuhla ja diplomien jako
DESCRIPTION:Uudet venepäälliköt juhlivat Pajasaaressa. Tarjolla oli diplomien lisäksi hyvää ruokaa ja iloista menoa. Kuvasta puuttuvat Olli ja Sami. \nKuva: Päivi Lehtinen
URL:https://tans.fi/tapahtuma/uusien-venepaallikoiden-kurssijuhla-ja-diplomien-jako/
CATEGORIES:Koulutus,Veneilykurssit
ATTACH;FMTTYPE=image/jpeg:https://tans.fi/wp-content/uploads/2023/11/Uudet-venepaallikot-Pieni-2023-11-16-at-20.58.49.jpg
END:VEVENT
END:VCALENDAR