BEGIN:VCALENDAR
VERSION:2.0
PRODID:-//Tampereen Navigaatioseura - ECPv6.10.1.1//NONSGML v1.0//EN
CALSCALE:GREGORIAN
METHOD:PUBLISH
X-ORIGINAL-URL:https://tans.fi
X-WR-CALDESC:Events for Tampereen Navigaatioseura
REFRESH-INTERVAL;VALUE=DURATION:PT1H
X-Robots-Tag:noindex
X-PUBLISHED-TTL:PT1H
BEGIN:VTIMEZONE
TZID:Europe/Helsinki
BEGIN:DAYLIGHT
TZOFFSETFROM:+0200
TZOFFSETTO:+0300
TZNAME:EEST
DTSTART:20220327T010000
END:DAYLIGHT
BEGIN:STANDARD
TZOFFSETFROM:+0300
TZOFFSETTO:+0200
TZNAME:EET
DTSTART:20221030T010000
END:STANDARD
END:VTIMEZONE
BEGIN:VEVENT
DTSTART;VALUE=DATE:20220422
DTEND;VALUE=DATE:20220423
DTSTAMP:20260423T115929
CREATED:20220407T162722Z
LAST-MODIFIED:20220407T164034Z
UID:10000191-1650585600-1650671999@tans.fi
SUMMARY:Laivuritentit kevät 2022
DESCRIPTION:Kevään 2022 laivuritentit pidetään perjantaina 22.4.2022. Ilmoittaudu tenttiin 14.4.2022 mennessä. \nTenttiajankohdat ja paikat  \nSaaristolaivuritentti klo 18-22 TAKK:ssa Kurssikeskuksenkatu 11\nRannikkolaivuritentti klo 18-22 TAKK:ssa Kurssikeskuksenkatu 11\nAvomerilaivuritentti klo 14-22 Pajasaaressa \nIlmoittaudu tenttiin » \n  \n 
URL:https://tans.fi/tapahtuma/laivuritentit-kevat-2022/
CATEGORIES:Alkavat kurssit,Koulutus,Laivurikurssit
END:VEVENT
END:VCALENDAR