BEGIN:VCALENDAR
VERSION:2.0
PRODID:-//Tampereen Navigaatioseura - ECPv6.10.1.1//NONSGML v1.0//EN
CALSCALE:GREGORIAN
METHOD:PUBLISH
X-WR-CALNAME:Tampereen Navigaatioseura
X-ORIGINAL-URL:https://tans.fi
X-WR-CALDESC:Events for Tampereen Navigaatioseura
REFRESH-INTERVAL;VALUE=DURATION:PT1H
X-Robots-Tag:noindex
X-PUBLISHED-TTL:PT1H
BEGIN:VTIMEZONE
TZID:Europe/Helsinki
BEGIN:DAYLIGHT
TZOFFSETFROM:+0200
TZOFFSETTO:+0300
TZNAME:EEST
DTSTART:20260329T010000
END:DAYLIGHT
BEGIN:STANDARD
TZOFFSETFROM:+0300
TZOFFSETTO:+0200
TZNAME:EET
DTSTART:20261025T010000
END:STANDARD
END:VTIMEZONE
BEGIN:VEVENT
DTSTART;TZID=Europe/Helsinki:20260425T170000
DTEND;TZID=Europe/Helsinki:20260425T235900
DTSTAMP:20260425T015128
CREATED:20251127T173459Z
LAST-MODIFIED:20260414T163108Z
UID:10000338-1777136400-1777161540@tans.fi
SUMMARY:Navigaatioseuran 60 v. juhla Pajasaaressa - ilmoittautuminen
DESCRIPTION:Navigaatioseuran 60-vuotisjuhla järjestetään 25.4.2026 Pajasaaressa \nJuhlan ohjelma: \n-lipunnosto klo 17:00 \n-alkumaljat ja cocktail-buffet \n-elävää musiikkia \n-iltapalaa. \nOmat ruokajuomat mukaan. Maksu paikan päällä kortilla tai mobilepaylla. \nIllalliskortti 25€/henkilö. \nIlmoittautuminen tästä linkistä \nPukukoodi smart casual. \nTERVETULOA!
URL:https://tans.fi/tapahtuma/navigaatioseura-60v-juhlapaiva-pajasaaressa/
LOCATION:Pajasaari\, Näsikallionrinne 6\, Tampere\, 33210
CATEGORIES:Tapahtumat
ATTACH;FMTTYPE=image/jpeg:https://tans.fi/wp-content/uploads/2026/03/Lampisaari_aava.jpg
END:VEVENT
END:VCALENDAR