BEGIN:VCALENDAR
VERSION:2.0
PRODID:-//Tampereen Navigaatioseura - ECPv6.10.1.1//NONSGML v1.0//EN
CALSCALE:GREGORIAN
METHOD:PUBLISH
X-WR-CALNAME:Tampereen Navigaatioseura
X-ORIGINAL-URL:https://tans.fi
X-WR-CALDESC:Events for Tampereen Navigaatioseura
REFRESH-INTERVAL;VALUE=DURATION:PT1H
X-Robots-Tag:noindex
X-PUBLISHED-TTL:PT1H
BEGIN:VTIMEZONE
TZID:Europe/Helsinki
BEGIN:DAYLIGHT
TZOFFSETFROM:+0200
TZOFFSETTO:+0300
TZNAME:EEST
DTSTART:20230326T010000
END:DAYLIGHT
BEGIN:STANDARD
TZOFFSETFROM:+0300
TZOFFSETTO:+0200
TZNAME:EET
DTSTART:20231029T010000
END:STANDARD
TZID:Europe/Helsinki
BEGIN:DAYLIGHT
TZOFFSETFROM:+0200
TZOFFSETTO:+0300
TZNAME:EEST
DTSTART:20220327T010000
END:DAYLIGHT
BEGIN:STANDARD
TZOFFSETFROM:+0300
TZOFFSETTO:+0200
TZNAME:EET
DTSTART:20221030T010000
END:STANDARD
END:VTIMEZONE
BEGIN:VEVENT
DTSTART;TZID=Europe/Helsinki:20230418T180000
DTEND;TZID=Europe/Helsinki:20230418T193000
DTSTAMP:20260416T143126
CREATED:20230328T161304Z
LAST-MODIFIED:20230328T163310Z
UID:10000132-1681840800-1681846200@tans.fi
SUMMARY:Seuraesittely - seuratoiminta ja retkitukikohdat
DESCRIPTION:Kerhoilta Pajasaaressa tiistaina 18.4. klo 18 – 19.30. Illan aiheena seuran toiminta ja retkitukikohtien esittely. Tule kuulemaan\, kyselemään ja keskustelemaan seuran tarjoamista harrastusmahdollisuuksista. \n– \n 
URL:https://tans.fi/tapahtuma/seuraesittely-seuratoiminta-ja-retkitukikohdat/
LOCATION:Pajasaari\, Näsikallionrinne 6\, Tampere\, 33210
CATEGORIES:Jäsenillat,Tapahtumat
ATTACH;FMTTYPE=image/jpeg:https://tans.fi/wp-content/uploads/2022/02/riekkola.jpg
END:VEVENT
BEGIN:VEVENT
DTSTART;TZID=Europe/Helsinki:20230131T180000
DTEND;TZID=Europe/Helsinki:20230131T193000
DTSTAMP:20260416T143126
CREATED:20230104T182734Z
LAST-MODIFIED:20230104T184213Z
UID:10000220-1675188000-1675193400@tans.fi
SUMMARY:Kerhoilta - Kimppaveneen omistaminen Kreikassa käytännön kokemuksia ja mahdollisuuksia
DESCRIPTION:Esityksessä käydään läpi kahden osakkuusveneen esimerkkien valossa käytännön asioita ja mahdollisuuksia päästä helpolla ja edullisella tavalla veneilemään lämpöisillä Kreikan vesillä. \nOsakkuusveneilyn suosio on selkeästi nousussa\, johtuen takuuvarman ilmaston suomista loistavista olosuhteista yhdistettynä osakkuusveneilyn helppouteen ja edullisiin kustannuksiin. Esityksen esimerkki veneet ovat täysin suomalaisomisteisia. Valmiit verkostot sekä toimintatavat mahdollistavat kokemattomallekin päästä nauttimaan tästä huvista ilman suuria valmisteluja ja riskejä. Omistajalta ei myöskään vaadita kansainvälisiä kelpuutuksia toisin kuin aiottaessa vuokrata etelästä veneen. \nEsityksessä käydään läpi valokuvien ja karttojen avulla Kreikan ilmastoa\, saaristoa ja sen satamia\, nähtävyyksiä yms. Rodos-Kos-Samos alueelta. Kysymyksille ja keskusteluille varataan loppuun reilusti aikaa. Samalla voi kysyä mahdollisuudesta päästä osakkaaksi tällaiseen veneeseen. Etukäteen voi lukea toisesta kimpasta seadiana.fi. \n 
URL:https://tans.fi/tapahtuma/kerhoilta-kimppaveneen-omistaminen-kreikassa-kaytannon-kokemuksia-ja-mahdollisuuksia/
LOCATION:Pajasaari\, Näsikallionrinne 6\, Tampere\, 33210
CATEGORIES:Jäsenillat,Tapahtumat
ATTACH;FMTTYPE=image/jpeg:https://tans.fi/wp-content/uploads/2021/12/deck-professional-sailboat-racing-yacht-during-competition-sunny-windy-summer-day-moving-fast-through-waves-water-with-spinnaker-up.jpg
END:VEVENT
BEGIN:VEVENT
DTSTART;TZID=Europe/Helsinki:20220222T180000
DTEND;TZID=Europe/Helsinki:20220222T200000
DTSTAMP:20260416T143126
CREATED:20220202T095818Z
LAST-MODIFIED:20220202T095818Z
UID:10000183-1645552800-1645560000@tans.fi
SUMMARY:Navigaatioseuran vuosikokous
DESCRIPTION:Navigaatioseuran vuosikokous Pajasaaressa klo 18:00 \nIlmoittaudu vuosikokoukseen 18.2.2022 mennessä painamalla tätä linkkiä \n 
URL:https://tans.fi/tapahtuma/navigaatioseuran-vuosikokous-3/
CATEGORIES:Hallitus,Tapahtumat
END:VEVENT
END:VCALENDAR